BEGIN:VCALENDAR
VERSION:2.0
PRODID:-//Freundeskreis Ortsgeschichte - ECPv6.15.20//NONSGML v1.0//EN
CALSCALE:GREGORIAN
METHOD:PUBLISH
X-WR-CALNAME:Freundeskreis Ortsgeschichte
X-ORIGINAL-URL:https://ortsgeschichte.org
X-WR-CALDESC:Veranstaltungen für Freundeskreis Ortsgeschichte
REFRESH-INTERVAL;VALUE=DURATION:PT1H
X-Robots-Tag:noindex
X-PUBLISHED-TTL:PT1H
BEGIN:VTIMEZONE
TZID:Europe/Berlin
BEGIN:DAYLIGHT
TZOFFSETFROM:+0100
TZOFFSETTO:+0200
TZNAME:CEST
DTSTART:20250330T010000
END:DAYLIGHT
BEGIN:STANDARD
TZOFFSETFROM:+0200
TZOFFSETTO:+0100
TZNAME:CET
DTSTART:20251026T010000
END:STANDARD
BEGIN:DAYLIGHT
TZOFFSETFROM:+0100
TZOFFSETTO:+0200
TZNAME:CEST
DTSTART:20260329T010000
END:DAYLIGHT
BEGIN:STANDARD
TZOFFSETFROM:+0200
TZOFFSETTO:+0100
TZNAME:CET
DTSTART:20261025T010000
END:STANDARD
BEGIN:DAYLIGHT
TZOFFSETFROM:+0100
TZOFFSETTO:+0200
TZNAME:CEST
DTSTART:20270328T010000
END:DAYLIGHT
BEGIN:STANDARD
TZOFFSETFROM:+0200
TZOFFSETTO:+0100
TZNAME:CET
DTSTART:20271031T010000
END:STANDARD
END:VTIMEZONE
BEGIN:VEVENT
DTSTART;TZID=Europe/Berlin:20260122T190000
DTEND;TZID=Europe/Berlin:20260122T223000
DTSTAMP:20260423T201508
CREATED:20251106T122145Z
LAST-MODIFIED:20260107T105621Z
UID:1371-1769108400-1769121000@ortsgeschichte.org
SUMMARY:Mitglieder-Versammlung
DESCRIPTION:Einladung zur Mitgliederversammlung \nAm Donnerstag\, den 22. Januar 2026 um 19 Uhr findet unsere ordentliche Mitgliederversammlung im Gasthaus „Ox“\, Herrschinger Straße 1\, 82396 Pähl-Fischen statt.
URL:https://ortsgeschichte.org/event/mitgliederversammlung/
LOCATION:Gasthaus Ox\, Herrschinger Straße 1\, Pähl-Fischen\, 82396\, Germany
CATEGORIES:Veranstaltung
END:VEVENT
END:VCALENDAR